BEGIN:VCALENDAR
PRODID:-//AT Content Types//AT Event//EN
VERSION:2.0
METHOD:PUBLISH
BEGIN:VEVENT
DTSTAMP:20260420T231501Z
CREATED:20260407T090040Z
UID:ATEvent-ffc91ac619f94c11a006d14912af4b8b20260428
LAST-MODIFIED:20260419T194137Z
SUMMARY:Tutti Fenomeni | Cantautori su Marte
DTSTART:20260427T220000Z
DTEND:20260428T215500Z
DESCRIPTION:A cura di Centro Musica di Modena
LOCATION:La Tenda
CATEGORIES:Conferences, seminars and workshops,Music
CLASS:PUBLIC
END:VEVENT
END:VCALENDAR
