BEGIN:VCALENDAR
PRODID:-//AT Content Types//AT Event//EN
VERSION:1.0
BEGIN:VEVENT
DTSTART:20141220T230000Z
DTEND:20141221T225500Z
UID:ATEvent-94fe53b27a904280b3f6658800b52bdd20141221
SEQUENCE:0
LAST-MODIFIED:20141217T104646Z
SUMMARY:CHRISTMAS IN SWAP - Scambi.A.Mo
DESCRIPTION:GIORNATA DEL BARATTO E DI VENDITA ARTICOLI HAND MADE
PRIORITY:3
TRANSP:0
END:VEVENT
END:VCALENDAR
